Package: tripr Version: 1.10.0 Command: /Library/Frameworks/R.framework/Resources/bin/R CMD check --install=check:tripr.install-out.txt --library=/Library/Frameworks/R.framework/Resources/library --no-vignettes --timings tripr_1.10.0.tar.gz StartedAt: 2024-10-18 15:56:50 -0400 (Fri, 18 Oct 2024) EndedAt: 2024-10-18 15:59:32 -0400 (Fri, 18 Oct 2024) EllapsedTime: 161.3 seconds RetCode: 0 Status: WARNINGS CheckDir: tripr.Rcheck Warnings: 1