Package: tripr Version: 1.10.0 Command: rm -rf tripr.buildbin-libdir && mkdir tripr.buildbin-libdir && /Users/biocbuild/BBS/utils/build-universal.sh tripr_1.10.0.tar.gz /Library/Frameworks/R.framework/Resources/bin/R tripr.buildbin-libdir StartedAt: 2024-06-11 13:37:45 -0400 (Tue, 11 Jun 2024) EndedAt: 2024-06-11 13:46:42 -0400 (Tue, 11 Jun 2024) EllapsedTime: 536.8 seconds RetCode: 0 Status: OK PackageFile: tripr_1.10.0.tgz PackageFileSize: 4.052 MiB