Package: tripr Version: 1.10.0 Command: rm -rf tripr.buildbin-libdir && mkdir tripr.buildbin-libdir && F:\biocbuild\bbs-3.19-bioc\R\bin\R.exe CMD INSTALL --build --library=tripr.buildbin-libdir tripr_1.10.0.tar.gz StartedAt: 2024-06-27 09:04:26 -0400 (Thu, 27 Jun 2024) EndedAt: 2024-06-27 09:05:08 -0400 (Thu, 27 Jun 2024) EllapsedTime: 42.3 seconds RetCode: 0 Status: OK PackageFile: tripr_1.10.0.zip PackageFileSize: 4.027 MiB