Package: tripr Version: 1.10.0 Command: F:\biocbuild\bbs-3.19-bioc\R\bin\R.exe CMD check --no-multiarch --install=check:tripr.install-out.txt --library=F:\biocbuild\bbs-3.19-bioc\R\library --no-vignettes --timings tripr_1.10.0.tar.gz StartedAt: 2024-06-27 07:11:02 -0400 (Thu, 27 Jun 2024) EndedAt: 2024-06-27 07:13:01 -0400 (Thu, 27 Jun 2024) EllapsedTime: 118.6 seconds RetCode: 0 Status: WARNINGS CheckDir: tripr.Rcheck Warnings: 1