Package: tripr Version: 1.10.0 Command: chmod a+r tripr -R && E:\biocbuild\bbs-3.19-bioc\R\bin\R.exe CMD build --keep-empty-dirs --no-resave-data tripr StartedAt: 2024-10-16 22:25:35 -0400 (Wed, 16 Oct 2024) EndedAt: 2024-10-16 22:26:22 -0400 (Wed, 16 Oct 2024) EllapsedTime: 46.9 seconds RetCode: 0 Status: OK PackageFile: tripr_1.10.0.tar.gz PackageFileSize: 2.932 MiB