Package: ttgsea Version: 1.12.0 Command: /Library/Frameworks/R.framework/Resources/bin/R CMD build --keep-empty-dirs --no-resave-data ttgsea StartedAt: 2024-10-17 11:05:24 -0400 (Thu, 17 Oct 2024) EndedAt: 2024-10-17 11:06:13 -0400 (Thu, 17 Oct 2024) EllapsedTime: 48.8 seconds RetCode: 0 Status: OK PackageFile: ttgsea_1.12.0.tar.gz PackageFileSize: 331.2 KiB