Package: ttgsea Version: 1.12.0 Command: /Library/Frameworks/R.framework/Resources/bin/R CMD INSTALL ttgsea StartedAt: 2024-10-16 19:00:09 -0400 (Wed, 16 Oct 2024) EndedAt: 2024-10-16 19:00:20 -0400 (Wed, 16 Oct 2024) EllapsedTime: 11.5 seconds RetCode: 0 Status: OK