Package: ttgsea Version: 1.12.0 Command: /Library/Frameworks/R.framework/Resources/bin/R CMD INSTALL ttgsea StartedAt: 2024-06-09 17:45:31 -0400 (Sun, 09 Jun 2024) EndedAt: 2024-06-09 17:45:44 -0400 (Sun, 09 Jun 2024) EllapsedTime: 12.6 seconds RetCode: 0 Status: OK