Package: ttgsea Version: 1.12.0 Command: /home/biocbuild/bbs-3.19-bioc/R/bin/R CMD build --keep-empty-dirs --no-resave-data ttgsea StartedAt: 2024-10-16 21:15:25 -0400 (Wed, 16 Oct 2024) EndedAt: 2024-10-16 21:16:25 -0400 (Wed, 16 Oct 2024) EllapsedTime: 60.1 seconds RetCode: 0 Status: OK PackageFile: ttgsea_1.12.0.tar.gz PackageFileSize: 905.8 KiB