Package: ttgsea Version: 1.12.0 Command: chmod a+r ttgsea -R && E:\biocbuild\bbs-3.19-bioc\R\bin\R.exe CMD build --keep-empty-dirs --no-resave-data ttgsea StartedAt: 2024-10-16 22:26:25 -0400 (Wed, 16 Oct 2024) EndedAt: 2024-10-16 22:28:02 -0400 (Wed, 16 Oct 2024) EllapsedTime: 97.2 seconds RetCode: 1 Status: ERROR PackageFile: None PackageFileSize: NA