Package: tweeDEseq Version: 1.50.0 Command: /Library/Frameworks/R.framework/Resources/bin/R CMD INSTALL tweeDEseq StartedAt: 2024-10-16 18:16:02 -0400 (Wed, 16 Oct 2024) EndedAt: 2024-10-16 18:16:08 -0400 (Wed, 16 Oct 2024) EllapsedTime: 6.9 seconds RetCode: 0 Status: OK