Package: tweeDEseq Version: 1.50.0 Command: rm -rf tweeDEseq.buildbin-libdir && mkdir tweeDEseq.buildbin-libdir && /Users/biocbuild/BBS/utils/build-universal.sh tweeDEseq_1.50.0.tar.gz /Library/Frameworks/R.framework/Resources/bin/R tweeDEseq.buildbin-libdir StartedAt: 2024-06-11 13:38:23 -0400 (Tue, 11 Jun 2024) EndedAt: 2024-06-11 13:38:38 -0400 (Tue, 11 Jun 2024) EllapsedTime: 14.5 seconds RetCode: 0 Status: OK PackageFile: tweeDEseq_1.50.0.tgz PackageFileSize: 348.7 KiB