Package: tweeDEseq Version: 1.50.0 Command: /home/biocbuild/R/R-beta-2024-04-15_r86425/bin/R CMD build --keep-empty-dirs --no-resave-data tweeDEseq StartedAt: 2024-05-09 04:14:03 -0000 (Thu, 09 May 2024) EndedAt: 2024-05-09 04:26:29 -0000 (Thu, 09 May 2024) EllapsedTime: 746.0 seconds RetCode: 0 Status: OK PackageFile: tweeDEseq_1.50.0.tar.gz PackageFileSize: 227.1 KiB