Package: tweeDEseq Version: 1.50.0 Command: rm -rf tweeDEseq.buildbin-libdir && mkdir tweeDEseq.buildbin-libdir && /Users/biocbuild/BBS/utils/build-universal.sh tweeDEseq_1.50.0.tar.gz /Library/Frameworks/R.framework/Resources/bin/R tweeDEseq.buildbin-libdir StartedAt: 2024-06-10 00:44:47 -0400 (Mon, 10 Jun 2024) EndedAt: 2024-06-10 00:44:58 -0400 (Mon, 10 Jun 2024) EllapsedTime: 11.2 seconds RetCode: 0 Status: OK PackageFile: tweeDEseq_1.50.0.tgz PackageFileSize: 351.5 KiB