Package: tweeDEseq Version: 1.50.0 Command: /Library/Frameworks/R.framework/Resources/bin/R CMD build --keep-empty-dirs --no-resave-data tweeDEseq StartedAt: 2024-10-17 00:07:41 -0400 (Thu, 17 Oct 2024) EndedAt: 2024-10-17 00:23:51 -0400 (Thu, 17 Oct 2024) EllapsedTime: 970.6 seconds RetCode: 0 Status: OK PackageFile: tweeDEseq_1.50.0.tar.gz PackageFileSize: 233.5 KiB