Package: twilight Version: 1.80.0 Command: rm -rf twilight.buildbin-libdir && mkdir twilight.buildbin-libdir && /Users/biocbuild/BBS/utils/build-universal.sh twilight_1.80.0.tar.gz /Library/Frameworks/R.framework/Resources/bin/R twilight.buildbin-libdir StartedAt: 2024-10-15 20:44:09 -0400 (Tue, 15 Oct 2024) EndedAt: 2024-10-15 20:44:20 -0400 (Tue, 15 Oct 2024) EllapsedTime: 11.3 seconds RetCode: 0 Status: OK PackageFile: twilight_1.80.0.tgz PackageFileSize: 1.219 MiB