Package: twilight Version: 1.80.0 Command: /Library/Frameworks/R.framework/Resources/bin/R CMD INSTALL twilight StartedAt: 2024-10-16 15:40:14 -0400 (Wed, 16 Oct 2024) EndedAt: 2024-10-16 15:40:21 -0400 (Wed, 16 Oct 2024) EllapsedTime: 7.0 seconds RetCode: 0 Status: OK