Package: twilight Version: 1.80.0 Command: rm -rf twilight.buildbin-libdir && mkdir twilight.buildbin-libdir && F:\biocbuild\bbs-3.19-bioc\R\bin\R.exe CMD INSTALL --build --library=twilight.buildbin-libdir twilight_1.80.0.tar.gz StartedAt: 2024-06-27 09:04:49 -0400 (Thu, 27 Jun 2024) EndedAt: 2024-06-27 09:05:23 -0400 (Thu, 27 Jun 2024) EllapsedTime: 33.1 seconds RetCode: 0 Status: OK PackageFile: twilight_1.80.0.zip PackageFileSize: 981.4 KiB