Package: twilight Version: 1.80.0 Command: chmod a+r twilight -R && E:\biocbuild\bbs-3.19-bioc\R\bin\R.exe CMD build --keep-empty-dirs --no-resave-data twilight StartedAt: 2024-10-16 22:26:46 -0400 (Wed, 16 Oct 2024) EndedAt: 2024-10-16 22:28:20 -0400 (Wed, 16 Oct 2024) EllapsedTime: 93.9 seconds RetCode: 0 Status: OK PackageFile: twilight_1.80.0.tar.gz PackageFileSize: 948.9 KiB