Package: twilight Version: 1.80.0 Command: E:\biocbuild\bbs-3.19-bioc\R\bin\R.exe CMD INSTALL twilight StartedAt: 2024-10-16 16:02:37 -0400 (Wed, 16 Oct 2024) EndedAt: 2024-10-16 16:02:50 -0400 (Wed, 16 Oct 2024) EllapsedTime: 12.4 seconds RetCode: 0 Status: OK