Back to Multiple platform build/check report for BioC 3.19: simplified long |
|
This page was generated on 2024-10-18 20:37 -0400 (Fri, 18 Oct 2024).
Hostname | OS | Arch (*) | R version | Installed pkgs |
---|---|---|---|---|
nebbiolo1 | Linux (Ubuntu 22.04.3 LTS) | x86_64 | 4.4.1 (2024-06-14) -- "Race for Your Life" | 4763 |
palomino7 | Windows Server 2022 Datacenter | x64 | 4.4.1 (2024-06-14 ucrt) -- "Race for Your Life" | 4500 |
merida1 | macOS 12.7.5 Monterey | x86_64 | 4.4.1 (2024-06-14) -- "Race for Your Life" | 4530 |
kjohnson1 | macOS 13.6.6 Ventura | arm64 | 4.4.1 (2024-06-14) -- "Race for Your Life" | 4480 |
Click on any hostname to see more info about the system (e.g. compilers) (*) as reported by 'uname -p', except on Windows and Mac OS X |
To the developers/maintainers of the txdbmaker package: - Allow up to 24 hours (and sometimes 48 hours) for your latest push to git@git.bioconductor.org:packages/txdbmaker.git to reflect on this report. See Troubleshooting Build Report for more information. - Use the following Renviron settings to reproduce errors and warnings. - If 'R CMD check' started to fail recently on the Linux builder(s) over a missing dependency, add the missing dependency to 'Suggests:' in your DESCRIPTION file. See Renviron.bioc for more information. |
Package 2228/2300 | Hostname | OS / Arch | INSTALL | BUILD | CHECK | BUILD BIN | ||||||||
txdbmaker 1.0.1 (landing page) H. Pagès
| nebbiolo1 | Linux (Ubuntu 22.04.3 LTS) / x86_64 | OK | OK | ERROR | |||||||||
palomino7 | Windows Server 2022 Datacenter / x64 | OK | OK | ERROR | OK | |||||||||
merida1 | macOS 12.7.5 Monterey / x86_64 | OK | OK | ERROR | OK | |||||||||
kjohnson1 | macOS 13.6.6 Ventura / arm64 | OK | OK | ERROR | NA | |||||||||
QUICK STATS | OS / Arch | INSTALL | BUILD | CHECK | BUILD BIN | |||||||||||||||||
nebbiolo1 | Linux (Ubuntu 22.04.3 LTS) / x86_64 |
|
|
| ||||||||||||||||||
palomino7 | Windows Server 2022 Datacenter / x64 |
|
|
|
| |||||||||||||||||
merida1 | macOS 12.7.5 Monterey / x86_64 |
|
|
|
| |||||||||||||||||
kjohnson1 | macOS 13.6.6 Ventura / arm64 |
|
|
|
| |||||||||||||||||
Package 1/31 | Hostname | OS / Arch | INSTALL | BUILD | CHECK | BUILD BIN | ||||||||||||||||
ASpli 2.14.0 (landing page) Ariel Chernomoretz
| nebbiolo1 | Linux (Ubuntu 22.04.3 LTS) / x86_64 | OK | OK | WARNINGS | ![]() | ||||||||||||||||
palomino7 | Windows Server 2022 Datacenter / x64 | OK | OK | WARNINGS | OK | ![]() | ||||||||||||||||
merida1 | macOS 12.7.5 Monterey / x86_64 | OK | OK | WARNINGS | OK | ![]() | ||||||||||||||||
kjohnson1 | macOS 13.6.6 Ventura / arm64 | OK | OK | WARNINGS | OK | ![]() | ||||||||||||||||
Package 2/31 | Hostname | OS / Arch | INSTALL | BUILD | CHECK | BUILD BIN | ||||||||||||||||
BgeeCall 1.20.1 (landing page) Julien Wollbrett
| nebbiolo1 | Linux (Ubuntu 22.04.3 LTS) / x86_64 | OK | OK | OK | ![]() | ||||||||||||||||
palomino7 | Windows Server 2022 Datacenter / x64 | OK | OK | OK | OK | ![]() | ||||||||||||||||
merida1 | macOS 12.7.5 Monterey / x86_64 | OK | OK | OK | OK | ![]() | ||||||||||||||||
kjohnson1 | macOS 13.6.6 Ventura / arm64 | OK | OK | OK | OK | ![]() | ||||||||||||||||
Package 3/31 | Hostname | OS / Arch | INSTALL | BUILD | CHECK | BUILD BIN | ||||||||||||||||
crisprDesign 1.6.0 (landing page) Jean-Philippe Fortin
| nebbiolo1 | Linux (Ubuntu 22.04.3 LTS) / x86_64 | OK | OK | OK | ![]() | ||||||||||||||||
palomino7 | Windows Server 2022 Datacenter / x64 | OK | OK | OK | OK | ![]() | ||||||||||||||||
merida1 | macOS 12.7.5 Monterey / x86_64 | OK | OK | OK | OK | ![]() | ||||||||||||||||
kjohnson1 | macOS 13.6.6 Ventura / arm64 | OK | OK | OK | OK | ![]() | ||||||||||||||||
Package 4/31 | Hostname | OS / Arch | INSTALL | BUILD | CHECK | BUILD BIN | ||||||||||||||||
crisprViz 1.6.0 (landing page) Jean-Philippe Fortin
| nebbiolo1 | Linux (Ubuntu 22.04.3 LTS) / x86_64 | OK | OK | OK | ![]() | ||||||||||||||||
palomino7 | Windows Server 2022 Datacenter / x64 | OK | OK | OK | OK | ![]() | ||||||||||||||||
merida1 | macOS 12.7.5 Monterey / x86_64 | OK | OK | OK | OK | ![]() | ||||||||||||||||
kjohnson1 | macOS 13.6.6 Ventura / arm64 | OK | OK | OK | OK | ![]() | ||||||||||||||||
Package 5/31 | Hostname | OS / Arch | INSTALL | BUILD | CHECK | BUILD BIN | ||||||||||||||||
customProDB 1.44.0 (landing page) Xiaojing Wang
| nebbiolo1 | Linux (Ubuntu 22.04.3 LTS) / x86_64 | OK | OK | WARNINGS | ![]() | ||||||||||||||||
palomino7 | Windows Server 2022 Datacenter / x64 | OK | OK | WARNINGS | OK | ![]() | ||||||||||||||||
merida1 | macOS 12.7.5 Monterey / x86_64 | OK | OK | WARNINGS | OK | ![]() | ||||||||||||||||
kjohnson1 | macOS 13.6.6 Ventura / arm64 | OK | OK | WARNINGS | OK | ![]() | ||||||||||||||||
Package 6/31 | Hostname | OS / Arch | INSTALL | BUILD | CHECK | BUILD BIN | ||||||||||||||||
DegNorm 1.14.0 (landing page) Ji-Ping Wang
| nebbiolo1 | Linux (Ubuntu 22.04.3 LTS) / x86_64 | OK | OK | OK | ![]() | ||||||||||||||||
palomino7 | Windows Server 2022 Datacenter / x64 | OK | OK | OK | OK | ![]() | ||||||||||||||||
merida1 | macOS 12.7.5 Monterey / x86_64 | OK | OK | OK | OK | ![]() | ||||||||||||||||
kjohnson1 | macOS 13.6.6 Ventura / arm64 | OK | OK | OK | OK | ![]() | ||||||||||||||||
Package 7/31 | Hostname | OS / Arch | INSTALL | BUILD | CHECK | BUILD BIN | ||||||||||||||||
EpiTxDb 1.16.0 (landing page) Felix G.M. Ernst
| nebbiolo1 | Linux (Ubuntu 22.04.3 LTS) / x86_64 | OK | OK | WARNINGS | ![]() | ||||||||||||||||
palomino7 | Windows Server 2022 Datacenter / x64 | OK | OK | WARNINGS | OK | ![]() | ||||||||||||||||
merida1 | macOS 12.7.5 Monterey / x86_64 | OK | OK | WARNINGS | OK | ![]() | ||||||||||||||||
kjohnson1 | macOS 13.6.6 Ventura / arm64 | OK | OK | WARNINGS | OK | ![]() | ||||||||||||||||
Package 8/31 | Hostname | OS / Arch | INSTALL | BUILD | CHECK | BUILD BIN | ||||||||||||||||
exomePeak2 1.16.2 (landing page) Zhen Wei
| nebbiolo1 | Linux (Ubuntu 22.04.3 LTS) / x86_64 | OK | OK | OK | ![]() | ||||||||||||||||
palomino7 | Windows Server 2022 Datacenter / x64 | OK | OK | OK | OK | ![]() | ||||||||||||||||
merida1 | macOS 12.7.5 Monterey / x86_64 | OK | OK | OK | OK | ![]() | ||||||||||||||||
kjohnson1 | macOS 13.6.6 Ventura / arm64 | OK | OK | OK | OK | ![]() | ||||||||||||||||
Package 9/31 | Hostname | OS / Arch | INSTALL | BUILD | CHECK | BUILD BIN | ||||||||||||||||
FLAMES 1.10.3 (landing page) Changqing Wang
| nebbiolo1 | Linux (Ubuntu 22.04.3 LTS) / x86_64 | OK | OK | OK | ![]() | ||||||||||||||||
palomino7 | Windows Server 2022 Datacenter / x64 | ... NOT SUPPORTED ... | ||||||||||||||||||||
merida1 | macOS 12.7.5 Monterey / x86_64 | OK | OK | OK | OK | ![]() | ||||||||||||||||
kjohnson1 | macOS 13.6.6 Ventura / arm64 | OK | OK | OK | OK | ![]() | ||||||||||||||||
Package 10/31 | Hostname | OS / Arch | INSTALL | BUILD | CHECK | BUILD BIN | ||||||||||||||||
GenomicPlot 1.2.4 (landing page) Shuye Pu
| nebbiolo1 | Linux (Ubuntu 22.04.3 LTS) / x86_64 | OK | OK | OK | ![]() | ||||||||||||||||
palomino7 | Windows Server 2022 Datacenter / x64 | OK | OK | OK | OK | ![]() | ||||||||||||||||
merida1 | macOS 12.7.5 Monterey / x86_64 | OK | OK | OK | OK | ![]() | ||||||||||||||||
kjohnson1 | macOS 13.6.6 Ventura / arm64 | OK | OK | OK | OK | ![]() | ||||||||||||||||
Package 11/31 | Hostname | OS / Arch | INSTALL | BUILD | CHECK | BUILD BIN | ||||||||||||||||
IntEREst 1.28.0 (landing page) Ali Oghabian
| nebbiolo1 | Linux (Ubuntu 22.04.3 LTS) / x86_64 | OK | OK | OK | ![]() | ||||||||||||||||
palomino7 | Windows Server 2022 Datacenter / x64 | OK | OK | OK | OK | ![]() | ||||||||||||||||
merida1 | macOS 12.7.5 Monterey / x86_64 | OK | OK | OK | OK | ![]() | ||||||||||||||||
kjohnson1 | macOS 13.6.6 Ventura / arm64 | OK | OK | OK | OK | ![]() | ||||||||||||||||
Package 12/31 | Hostname | OS / Arch | INSTALL | BUILD | CHECK | BUILD BIN | ||||||||||||||||
metaseqR2 1.16.0 (landing page) Panagiotis Moulos
| nebbiolo1 | Linux (Ubuntu 22.04.3 LTS) / x86_64 | OK | OK | OK | ![]() | ||||||||||||||||
palomino7 | Windows Server 2022 Datacenter / x64 | OK | OK | OK | OK | ![]() | ||||||||||||||||
merida1 | macOS 12.7.5 Monterey / x86_64 | OK | OK | OK | OK | ![]() | ||||||||||||||||
kjohnson1 | macOS 13.6.6 Ventura / arm64 | OK | OK | OK | OK | ![]() | ||||||||||||||||
Package 13/31 | Hostname | OS / Arch | INSTALL | BUILD | CHECK | BUILD BIN | ||||||||||||||||
mygene 1.40.0 (landing page) Adam Mark, Cyrus Afrasiabi, Chunlei Wu
| nebbiolo1 | Linux (Ubuntu 22.04.3 LTS) / x86_64 | OK | OK | OK | ![]() | ||||||||||||||||
palomino7 | Windows Server 2022 Datacenter / x64 | OK | OK | OK | OK | ![]() | ||||||||||||||||
merida1 | macOS 12.7.5 Monterey / x86_64 | OK | OK | OK | OK | ![]() | ||||||||||||||||
kjohnson1 | macOS 13.6.6 Ventura / arm64 | OK | OK | OK | OK | ![]() | ||||||||||||||||
Package 14/31 | Hostname | OS / Arch | INSTALL | BUILD | CHECK | BUILD BIN | ||||||||||||||||
ORFik 1.24.0 (landing page) Haakon Tjeldnes
| nebbiolo1 | Linux (Ubuntu 22.04.3 LTS) / x86_64 | OK | OK | ERROR | |||||||||||||||||
palomino7 | Windows Server 2022 Datacenter / x64 | OK | OK | OK | OK | ![]() | ||||||||||||||||
merida1 | macOS 12.7.5 Monterey / x86_64 | OK | OK | OK | OK | ![]() | ||||||||||||||||
kjohnson1 | macOS 13.6.6 Ventura / arm64 | OK | ERROR | skipped | skipped | |||||||||||||||||
Package 15/31 | Hostname | OS / Arch | INSTALL | BUILD | CHECK | BUILD BIN | ||||||||||||||||
OrganismDbi 1.46.0 (landing page) Bioconductor Package Maintainer
| nebbiolo1 | Linux (Ubuntu 22.04.3 LTS) / x86_64 | OK | OK | OK | ![]() | ||||||||||||||||
palomino7 | Windows Server 2022 Datacenter / x64 | OK | OK | ERROR | OK | |||||||||||||||||
merida1 | macOS 12.7.5 Monterey / x86_64 | OK | OK | OK | OK | ![]() | ||||||||||||||||
kjohnson1 | macOS 13.6.6 Ventura / arm64 | OK | OK | OK | OK | ![]() | ||||||||||||||||
Package 16/31 | Hostname | OS / Arch | INSTALL | BUILD | CHECK | BUILD BIN | ||||||||||||||||
OUTRIDER 1.22.0 (landing page) Christian Mertes
| nebbiolo1 | Linux (Ubuntu 22.04.3 LTS) / x86_64 | OK | OK | OK | ![]() | ||||||||||||||||
palomino7 | Windows Server 2022 Datacenter / x64 | OK | OK | OK | OK | ![]() | ||||||||||||||||
merida1 | macOS 12.7.5 Monterey / x86_64 | OK | OK | OK | OK | ![]() | ||||||||||||||||
kjohnson1 | macOS 13.6.6 Ventura / arm64 | OK | OK | OK | OK | ![]() | ||||||||||||||||
Package 17/31 | Hostname | OS / Arch | INSTALL | BUILD | CHECK | BUILD BIN | ||||||||||||||||
proActiv 1.14.0 (landing page) Joseph Lee
| nebbiolo1 | Linux (Ubuntu 22.04.3 LTS) / x86_64 | OK | OK | OK | ![]() | ||||||||||||||||
palomino7 | Windows Server 2022 Datacenter / x64 | OK | OK | OK | OK | ![]() | ||||||||||||||||
merida1 | macOS 12.7.5 Monterey / x86_64 | OK | OK | OK | OK | ![]() | ||||||||||||||||
kjohnson1 | macOS 13.6.6 Ventura / arm64 | OK | OK | OK | OK | ![]() | ||||||||||||||||
Package 18/31 | Hostname | OS / Arch | INSTALL | BUILD | CHECK | BUILD BIN | ||||||||||||||||
proBAMr 1.38.0 (landing page) Xiaojing Wang
| nebbiolo1 | Linux (Ubuntu 22.04.3 LTS) / x86_64 | OK | OK | OK | ![]() | ||||||||||||||||
palomino7 | Windows Server 2022 Datacenter / x64 | OK | OK | OK | OK | ![]() | ||||||||||||||||
merida1 | macOS 12.7.5 Monterey / x86_64 | OK | OK | OK | OK | ![]() | ||||||||||||||||
kjohnson1 | macOS 13.6.6 Ventura / arm64 | OK | OK | OK | OK | ![]() | ||||||||||||||||
Package 19/31 | Hostname | OS / Arch | INSTALL | BUILD | CHECK | BUILD BIN | ||||||||||||||||
QuasR 1.44.0 (landing page) Michael Stadler
| nebbiolo1 | Linux (Ubuntu 22.04.3 LTS) / x86_64 | OK | OK | WARNINGS | ![]() | ||||||||||||||||
palomino7 | Windows Server 2022 Datacenter / x64 | OK | OK | WARNINGS | OK | ![]() | ||||||||||||||||
merida1 | macOS 12.7.5 Monterey / x86_64 | OK | OK | WARNINGS | OK | ![]() | ||||||||||||||||
kjohnson1 | macOS 13.6.6 Ventura / arm64 | OK | OK | WARNINGS | OK | ![]() | ||||||||||||||||
Package 20/31 | Hostname | OS / Arch | INSTALL | BUILD | CHECK | BUILD BIN | ||||||||||||||||
RCAS 1.30.0 (landing page) Bora Uyar
| nebbiolo1 | Linux (Ubuntu 22.04.3 LTS) / x86_64 | OK | OK | OK | ![]() | ||||||||||||||||
palomino7 | Windows Server 2022 Datacenter / x64 | OK | OK | OK | OK | ![]() | ||||||||||||||||
merida1 | macOS 12.7.5 Monterey / x86_64 | OK | OK | OK | OK | ![]() | ||||||||||||||||
kjohnson1 | macOS 13.6.6 Ventura / arm64 | OK | OK | OK | OK | ![]() | ||||||||||||||||
Package 21/31 | Hostname | OS / Arch | INSTALL | BUILD | CHECK | BUILD BIN | ||||||||||||||||
recoup 1.32.0 (landing page) Panagiotis Moulos
| nebbiolo1 | Linux (Ubuntu 22.04.3 LTS) / x86_64 | OK | OK | OK | ![]() | ||||||||||||||||
palomino7 | Windows Server 2022 Datacenter / x64 | OK | OK | OK | OK | ![]() | ||||||||||||||||
merida1 | macOS 12.7.5 Monterey / x86_64 | OK | OK | OK | OK | ![]() | ||||||||||||||||
kjohnson1 | macOS 13.6.6 Ventura / arm64 | OK | OK | OK | OK | ![]() | ||||||||||||||||
Package 22/31 | Hostname | OS / Arch | INSTALL | BUILD | CHECK | BUILD BIN | ||||||||||||||||
Rhisat2 1.20.0 (landing page) Charlotte Soneson
| nebbiolo1 | Linux (Ubuntu 22.04.3 LTS) / x86_64 | OK | OK | WARNINGS | ![]() | ||||||||||||||||
palomino7 | Windows Server 2022 Datacenter / x64 | OK | OK | WARNINGS | OK | ![]() | ||||||||||||||||
merida1 | macOS 12.7.5 Monterey / x86_64 | OK | OK | WARNINGS | OK | ![]() | ||||||||||||||||
kjohnson1 | macOS 13.6.6 Ventura / arm64 | OK | OK | WARNINGS | OK | ![]() | ||||||||||||||||
Package 23/31 | Hostname | OS / Arch | INSTALL | BUILD | CHECK | BUILD BIN | ||||||||||||||||
RiboDiPA 1.12.0 (landing page) Ji-Ping Wang
| nebbiolo1 | Linux (Ubuntu 22.04.3 LTS) / x86_64 | OK | OK | OK | ![]() | ||||||||||||||||
palomino7 | Windows Server 2022 Datacenter / x64 | OK | OK | OK | OK | ![]() | ||||||||||||||||
merida1 | macOS 12.7.5 Monterey / x86_64 | OK | OK | OK | OK | ![]() | ||||||||||||||||
kjohnson1 | macOS 13.6.6 Ventura / arm64 | OK | OK | OK | OK | ![]() | ||||||||||||||||
Package 24/31 | Hostname | OS / Arch | INSTALL | BUILD | CHECK | BUILD BIN | ||||||||||||||||
ribosomeProfilingQC 1.16.0 (landing page) Jianhong Ou
| nebbiolo1 | Linux (Ubuntu 22.04.3 LTS) / x86_64 | OK | OK | OK | ![]() | ||||||||||||||||
palomino7 | Windows Server 2022 Datacenter / x64 | OK | OK | OK | OK | ![]() | ||||||||||||||||
merida1 | macOS 12.7.5 Monterey / x86_64 | OK | OK | OK | OK | ![]() | ||||||||||||||||
kjohnson1 | macOS 13.6.6 Ventura / arm64 | OK | OK | OK | OK | ![]() | ||||||||||||||||
Package 25/31 | Hostname | OS / Arch | INSTALL | BUILD | CHECK | BUILD BIN | ||||||||||||||||
RNAmodR 1.18.0 (landing page) Felix G.M. Ernst
| nebbiolo1 | Linux (Ubuntu 22.04.3 LTS) / x86_64 | OK | OK | OK | ![]() | ||||||||||||||||
palomino7 | Windows Server 2022 Datacenter / x64 | OK | OK | OK | OK | ![]() | ||||||||||||||||
merida1 | macOS 12.7.5 Monterey / x86_64 | OK | OK | ERROR | OK | |||||||||||||||||
kjohnson1 | macOS 13.6.6 Ventura / arm64 | OK | OK | OK | OK | ![]() | ||||||||||||||||
Package 26/31 | Hostname | OS / Arch | INSTALL | BUILD | CHECK | BUILD BIN | ||||||||||||||||
scanMiRApp 1.10.0 (landing page) Pierre-Luc Germain
| nebbiolo1 | Linux (Ubuntu 22.04.3 LTS) / x86_64 | OK | OK | OK | ![]() | ||||||||||||||||
palomino7 | Windows Server 2022 Datacenter / x64 | OK | OK | OK | OK | ![]() | ||||||||||||||||
merida1 | macOS 12.7.5 Monterey / x86_64 | OK | OK | OK | OK | ![]() | ||||||||||||||||
kjohnson1 | macOS 13.6.6 Ventura / arm64 | OK | OK | OK | NA | |||||||||||||||||
Package 27/31 | Hostname | OS / Arch | INSTALL | BUILD | CHECK | BUILD BIN | ||||||||||||||||
scruff 1.22.0 (landing page) Zhe Wang
| nebbiolo1 | Linux (Ubuntu 22.04.3 LTS) / x86_64 | OK | OK | OK | ![]() | ||||||||||||||||
palomino7 | Windows Server 2022 Datacenter / x64 | OK | OK | OK | OK | ![]() | ||||||||||||||||
merida1 | macOS 12.7.5 Monterey / x86_64 | OK | OK | OK | OK | ![]() | ||||||||||||||||
kjohnson1 | macOS 13.6.6 Ventura / arm64 | OK | OK | OK | NA | |||||||||||||||||
Package 28/31 | Hostname | OS / Arch | INSTALL | BUILD | CHECK | BUILD BIN | ||||||||||||||||
sitadela 1.12.0 (landing page) Panagiotis Moulos
| nebbiolo1 | Linux (Ubuntu 22.04.3 LTS) / x86_64 | OK | OK | OK | ![]() | ||||||||||||||||
palomino7 | Windows Server 2022 Datacenter / x64 | OK | OK | OK | OK | ![]() | ||||||||||||||||
merida1 | macOS 12.7.5 Monterey / x86_64 | OK | OK | OK | OK | ![]() | ||||||||||||||||
kjohnson1 | macOS 13.6.6 Ventura / arm64 | OK | OK | OK | NA | |||||||||||||||||
Package 29/31 | Hostname | OS / Arch | INSTALL | BUILD | CHECK | BUILD BIN | ||||||||||||||||
trackViewer 1.40.0 (landing page) Jianhong Ou
| nebbiolo1 | Linux (Ubuntu 22.04.3 LTS) / x86_64 | OK | OK | OK | ![]() | ||||||||||||||||
palomino7 | Windows Server 2022 Datacenter / x64 | OK | OK | OK | OK | ![]() | ||||||||||||||||
merida1 | macOS 12.7.5 Monterey / x86_64 | OK | OK | OK | OK | ![]() | ||||||||||||||||
kjohnson1 | macOS 13.6.6 Ventura / arm64 | OK | OK | OK | NA | |||||||||||||||||
Package 30/31 | Hostname | OS / Arch | INSTALL | BUILD | CHECK | BUILD BIN | ||||||||||||||||
txcutr 1.10.0 (landing page) Mervin Fansler
| nebbiolo1 | Linux (Ubuntu 22.04.3 LTS) / x86_64 | OK | OK | OK | ![]() | ||||||||||||||||
palomino7 | Windows Server 2022 Datacenter / x64 | OK | OK | OK | OK | ![]() | ||||||||||||||||
merida1 | macOS 12.7.5 Monterey / x86_64 | OK | OK | OK | OK | ![]() | ||||||||||||||||
kjohnson1 | macOS 13.6.6 Ventura / arm64 | OK | OK | OK | NA | |||||||||||||||||
Package 31/31 | Hostname | OS / Arch | INSTALL | BUILD | CHECK | BUILD BIN | ||||||||||||||||
tximeta 1.22.1 (landing page) Michael Love
| nebbiolo1 | Linux (Ubuntu 22.04.3 LTS) / x86_64 | OK | OK | OK | ![]() | ||||||||||||||||
palomino7 | Windows Server 2022 Datacenter / x64 | OK | OK | OK | OK | ![]() | ||||||||||||||||
merida1 | macOS 12.7.5 Monterey / x86_64 | OK | OK | OK | OK | ![]() | ||||||||||||||||
kjohnson1 | macOS 13.6.6 Ventura / arm64 | OK | OK | OK | NA | |||||||||||||||||