Package: txdbmaker Version: 1.0.1 Command: /Library/Frameworks/R.framework/Resources/bin/R CMD check --install=check:txdbmaker.install-out.txt --library=/Library/Frameworks/R.framework/Resources/library --no-vignettes --timings txdbmaker_1.0.1.tar.gz StartedAt: 2024-10-18 16:03:26 -0400 (Fri, 18 Oct 2024) EndedAt: 2024-10-18 16:14:14 -0400 (Fri, 18 Oct 2024) EllapsedTime: 647.8 seconds RetCode: 1 Status: ERROR CheckDir: txdbmaker.Rcheck Warnings: NA