Package: txdbmaker Version: 1.0.0 Command: /home/biocbuild/R/R-beta-2024-04-15_r86425/bin/R CMD build --keep-empty-dirs --no-resave-data txdbmaker StartedAt: 2024-05-09 04:14:48 -0000 (Thu, 09 May 2024) EndedAt: 2024-05-09 04:17:00 -0000 (Thu, 09 May 2024) EllapsedTime: 132.2 seconds RetCode: 0 Status: OK PackageFile: txdbmaker_1.0.0.tar.gz PackageFileSize: 1.007 MiB