Package: txdbmaker Version: 1.0.1 Command: /Library/Frameworks/R.framework/Resources/bin/R CMD INSTALL txdbmaker StartedAt: 2024-10-16 15:51:53 -0400 (Wed, 16 Oct 2024) EndedAt: 2024-10-16 15:53:21 -0400 (Wed, 16 Oct 2024) EllapsedTime: 88.6 seconds RetCode: 0 Status: OK