Package: txdbmaker Version: 1.0.1 Command: E:\biocbuild\bbs-3.19-bioc\R\bin\R.exe CMD check --no-multiarch --install=check:txdbmaker.install-out.txt --library=E:\biocbuild\bbs-3.19-bioc\R\library --no-vignettes --timings txdbmaker_1.0.1.tar.gz StartedAt: 2024-10-17 06:45:54 -0400 (Thu, 17 Oct 2024) EndedAt: 2024-10-17 06:57:59 -0400 (Thu, 17 Oct 2024) EllapsedTime: 724.9 seconds RetCode: 1 Status: ERROR CheckDir: txdbmaker.Rcheck Warnings: NA