Package: tximeta Version: 1.22.1 Command: /Library/Frameworks/R.framework/Resources/bin/R CMD build --keep-empty-dirs --no-resave-data tximeta StartedAt: 2024-06-09 18:29:37 -0400 (Sun, 09 Jun 2024) EndedAt: 2024-06-09 18:31:21 -0400 (Sun, 09 Jun 2024) EllapsedTime: 103.8 seconds RetCode: 0 Status: OK PackageFile: tximeta_1.22.1.tar.gz PackageFileSize: 1.331 MiB