Package: tximeta Version: 1.22.1 Command: /Library/Frameworks/R.framework/Resources/bin/R CMD build --keep-empty-dirs --no-resave-data tximeta StartedAt: 2024-10-17 00:08:13 -0400 (Thu, 17 Oct 2024) EndedAt: 2024-10-17 00:11:46 -0400 (Thu, 17 Oct 2024) EllapsedTime: 213.2 seconds RetCode: 0 Status: OK PackageFile: tximeta_1.22.1.tar.gz PackageFileSize: 1.331 MiB