Package: tximeta Version: 1.22.1 Command: /Library/Frameworks/R.framework/Resources/bin/R CMD check --install=check:tximeta.install-out.txt --library=/Library/Frameworks/R.framework/Resources/library --no-vignettes --timings tximeta_1.22.1.tar.gz StartedAt: 2024-10-17 14:50:21 -0400 (Thu, 17 Oct 2024) EndedAt: 2024-10-17 15:03:38 -0400 (Thu, 17 Oct 2024) EllapsedTime: 796.4 seconds RetCode: 0 Status: OK CheckDir: tximeta.Rcheck Warnings: 0