Package: tximeta Version: 1.22.1 Command: /home/biocbuild/bbs-3.19-bioc/R/bin/R CMD check --install=check:tximeta.install-out.txt --library=/home/biocbuild/bbs-3.19-bioc/R/site-library --timings tximeta_1.22.1.tar.gz StartedAt: 2024-10-17 06:09:30 -0400 (Thu, 17 Oct 2024) EndedAt: 2024-10-17 06:15:53 -0400 (Thu, 17 Oct 2024) EllapsedTime: 382.8 seconds RetCode: 0 Status: OK CheckDir: tximeta.Rcheck Warnings: 0