Package: tximeta Version: 1.22.1 Command: /home/biocbuild/bbs-3.19-bioc/R/bin/R CMD INSTALL tximeta StartedAt: 2024-10-16 16:16:48 -0400 (Wed, 16 Oct 2024) EndedAt: 2024-10-16 16:17:27 -0400 (Wed, 16 Oct 2024) EllapsedTime: 39.6 seconds RetCode: 0 Status: OK