Package: tximport Version: 1.32.0 Command: /Library/Frameworks/R.framework/Resources/bin/R CMD build --keep-empty-dirs --no-resave-data tximport StartedAt: 2024-06-10 06:19:36 -0400 (Mon, 10 Jun 2024) EndedAt: 2024-06-10 06:21:10 -0400 (Mon, 10 Jun 2024) EllapsedTime: 94.7 seconds RetCode: 0 Status: OK PackageFile: tximport_1.32.0.tar.gz PackageFileSize: 308.5 KiB