Package: tximport Version: 1.32.0 Command: chmod a+r tximport -R && F:\biocbuild\bbs-3.19-bioc\R\bin\R.exe CMD build --keep-empty-dirs --no-resave-data tximport StartedAt: 2024-06-26 22:29:49 -0400 (Wed, 26 Jun 2024) EndedAt: 2024-06-26 22:31:32 -0400 (Wed, 26 Jun 2024) EllapsedTime: 103.0 seconds RetCode: 0 Status: OK PackageFile: tximport_1.32.0.tar.gz PackageFileSize: 308.6 KiB