Package: uSORT Version: 1.30.0 Command: rm -rf uSORT.buildbin-libdir && mkdir uSORT.buildbin-libdir && /Users/biocbuild/BBS/utils/build-universal.sh uSORT_1.30.0.tar.gz /Library/Frameworks/R.framework/Resources/bin/R uSORT.buildbin-libdir StartedAt: 2024-10-15 20:45:45 -0400 (Tue, 15 Oct 2024) EndedAt: 2024-10-15 20:46:26 -0400 (Tue, 15 Oct 2024) EllapsedTime: 40.9 seconds RetCode: 0 Status: OK PackageFile: uSORT_1.30.0.tgz PackageFileSize: 1.972 MiB