Package: uSORT Version: 1.30.0 Command: /Library/Frameworks/R.framework/Resources/bin/R CMD check --install=check:uSORT.install-out.txt --library=/Library/Frameworks/R.framework/Resources/library --no-vignettes --timings uSORT_1.30.0.tar.gz StartedAt: 2024-10-18 16:15:24 -0400 (Fri, 18 Oct 2024) EndedAt: 2024-10-18 16:19:55 -0400 (Fri, 18 Oct 2024) EllapsedTime: 271.4 seconds RetCode: 0 Status: WARNINGS CheckDir: uSORT.Rcheck Warnings: 1