Package: uSORT Version: 1.30.0 Command: /Library/Frameworks/R.framework/Resources/bin/R CMD check --install=check:uSORT.install-out.txt --library=/Library/Frameworks/R.framework/Resources/library --no-vignettes --timings uSORT_1.30.0.tar.gz StartedAt: 2024-06-11 09:14:58 -0400 (Tue, 11 Jun 2024) EndedAt: 2024-06-11 09:54:58 -0400 (Tue, 11 Jun 2024) EllapsedTime: 2400.0 seconds RetCode: None Status: TIMEOUT CheckDir: uSORT.Rcheck Warnings: NA