Package: uSORT Version: 1.30.0 Command: /home/biocbuild/R/R-beta-2024-04-15_r86425/bin/R CMD build --keep-empty-dirs --no-resave-data uSORT StartedAt: 2024-05-09 04:17:00 -0000 (Thu, 09 May 2024) EndedAt: 2024-05-09 04:17:37 -0000 (Thu, 09 May 2024) EllapsedTime: 37.1 seconds RetCode: 0 Status: OK PackageFile: uSORT_1.30.0.tar.gz PackageFileSize: 2.835 MiB