Package: uSORT Version: 1.30.0 Command: rm -rf uSORT.buildbin-libdir && mkdir uSORT.buildbin-libdir && /Users/biocbuild/BBS/utils/build-universal.sh uSORT_1.30.0.tar.gz /Library/Frameworks/R.framework/Resources/bin/R uSORT.buildbin-libdir StartedAt: 2024-06-10 00:45:03 -0400 (Mon, 10 Jun 2024) EndedAt: 2024-06-10 00:45:42 -0400 (Mon, 10 Jun 2024) EllapsedTime: 39.2 seconds RetCode: 0 Status: OK PackageFile: uSORT_1.30.0.tgz PackageFileSize: 1.972 MiB