Package: uSORT Version: 1.30.0 Command: /Library/Frameworks/R.framework/Resources/bin/R CMD INSTALL uSORT StartedAt: 2024-10-16 15:15:00 -0400 (Wed, 16 Oct 2024) EndedAt: 2024-10-16 15:15:59 -0400 (Wed, 16 Oct 2024) EllapsedTime: 59.3 seconds RetCode: 0 Status: OK