Package: uSORT Version: 1.30.0 Command: /home/biocbuild/bbs-3.19-bioc/R/bin/R CMD build --keep-empty-dirs --no-resave-data uSORT StartedAt: 2024-10-16 21:17:27 -0400 (Wed, 16 Oct 2024) EndedAt: 2024-10-16 21:17:54 -0400 (Wed, 16 Oct 2024) EllapsedTime: 27.0 seconds RetCode: 0 Status: OK PackageFile: uSORT_1.30.0.tar.gz PackageFileSize: 2.814 MiB