Package: uSORT Version: 1.30.0 Command: F:\biocbuild\bbs-3.19-bioc\R\bin\R.exe CMD check --no-multiarch --install=check:uSORT.install-out.txt --library=F:\biocbuild\bbs-3.19-bioc\R\library --no-vignettes --timings uSORT_1.30.0.tar.gz StartedAt: 2024-06-27 07:15:36 -0400 (Thu, 27 Jun 2024) EndedAt: 2024-06-27 07:18:37 -0400 (Thu, 27 Jun 2024) EllapsedTime: 180.9 seconds RetCode: 0 Status: WARNINGS CheckDir: uSORT.Rcheck Warnings: 1