Package: uSORT Version: 1.30.0 Command: E:\biocbuild\bbs-3.19-bioc\R\bin\R.exe CMD INSTALL uSORT StartedAt: 2024-10-16 16:09:54 -0400 (Wed, 16 Oct 2024) EndedAt: 2024-10-16 16:10:21 -0400 (Wed, 16 Oct 2024) EllapsedTime: 27.0 seconds RetCode: 0 Status: OK