Package: updateObject Version: 1.8.0 Command: rm -rf updateObject.buildbin-libdir && mkdir updateObject.buildbin-libdir && E:\biocbuild\bbs-3.19-bioc\R\bin\R.exe CMD INSTALL --build --library=updateObject.buildbin-libdir updateObject_1.8.0.tar.gz StartedAt: 2024-10-17 08:49:53 -0400 (Thu, 17 Oct 2024) EndedAt: 2024-10-17 08:50:11 -0400 (Thu, 17 Oct 2024) EllapsedTime: 17.9 seconds RetCode: 0 Status: OK PackageFile: updateObject_1.8.0.zip PackageFileSize: 1.346 MiB