Package: veloviz Version: 1.10.0 Command: rm -rf veloviz.buildbin-libdir && mkdir veloviz.buildbin-libdir && /Users/biocbuild/BBS/utils/build-universal.sh veloviz_1.10.0.tar.gz /Library/Frameworks/R.framework/Resources/bin/R veloviz.buildbin-libdir StartedAt: 2024-10-15 20:48:05 -0400 (Tue, 15 Oct 2024) EndedAt: 2024-10-15 20:48:24 -0400 (Tue, 15 Oct 2024) EllapsedTime: 19.1 seconds RetCode: 0 Status: OK PackageFile: veloviz_1.10.0.tgz PackageFileSize: 3.669 MiB