Package: veloviz Version: 1.10.0 Command: /Library/Frameworks/R.framework/Resources/bin/R CMD build --keep-empty-dirs --no-resave-data veloviz StartedAt: 2024-10-17 00:14:16 -0400 (Thu, 17 Oct 2024) EndedAt: 2024-10-17 00:15:06 -0400 (Thu, 17 Oct 2024) EllapsedTime: 49.8 seconds RetCode: 0 Status: OK PackageFile: veloviz_1.10.0.tar.gz PackageFileSize: 3.579 MiB