Package: vidger Version: 1.24.0 Command: rm -rf vidger.buildbin-libdir && mkdir vidger.buildbin-libdir && /Users/biocbuild/BBS/utils/build-universal.sh vidger_1.24.0.tar.gz /Library/Frameworks/R.framework/Resources/bin/R vidger.buildbin-libdir StartedAt: 2024-10-15 20:48:21 -0400 (Tue, 15 Oct 2024) EndedAt: 2024-10-15 20:49:13 -0400 (Tue, 15 Oct 2024) EllapsedTime: 52.0 seconds RetCode: 0 Status: OK PackageFile: vidger_1.24.0.tgz PackageFileSize: 8.978 MiB