Package: vidger Version: 1.24.0 Command: chmod a+r vidger -R && E:\biocbuild\bbs-3.19-bioc\R\bin\R.exe CMD build --keep-empty-dirs --no-resave-data vidger StartedAt: 2024-10-16 22:30:09 -0400 (Wed, 16 Oct 2024) EndedAt: 2024-10-16 22:32:37 -0400 (Wed, 16 Oct 2024) EllapsedTime: 147.5 seconds RetCode: 0 Status: OK PackageFile: vidger_1.24.0.tar.gz PackageFileSize: 5.235 MiB