Package: vissE Version: 1.12.0 Command: /Library/Frameworks/R.framework/Resources/bin/R CMD INSTALL vissE StartedAt: 2024-10-16 19:00:07 -0400 (Wed, 16 Oct 2024) EndedAt: 2024-10-16 19:00:12 -0400 (Wed, 16 Oct 2024) EllapsedTime: 5.8 seconds RetCode: 0 Status: OK