Package: vtpnet Version: 0.44.0 Maintainer: VJ Carey MaintainerEmail: stvjc at channing.harvard.edu git_url: https://git.bioconductor.org/packages/vtpnet git_branch: RELEASE_3_19 git_last_commit: d9c1644 git_last_commit_date: 2024-04-30 10:32:06 -0400 (Tue, 30 Apr 2024)