Package: wppi Version: 1.12.0 Command: rm -rf wppi.buildbin-libdir && mkdir wppi.buildbin-libdir && E:\biocbuild\bbs-3.19-bioc\R\bin\R.exe CMD INSTALL --build --library=wppi.buildbin-libdir wppi_1.12.0.tar.gz StartedAt: 2024-10-17 08:51:03 -0400 (Thu, 17 Oct 2024) EndedAt: 2024-10-17 08:51:27 -0400 (Thu, 17 Oct 2024) EllapsedTime: 23.7 seconds RetCode: 0 Status: OK PackageFile: wppi_1.12.0.zip PackageFileSize: 303.8 KiB