Package: xmapbridge Version: 1.62.0 Command: rm -rf xmapbridge.buildbin-libdir && mkdir xmapbridge.buildbin-libdir && /Users/biocbuild/BBS/utils/build-universal.sh xmapbridge_1.62.0.tar.gz /Library/Frameworks/R.framework/Resources/bin/R xmapbridge.buildbin-libdir StartedAt: 2024-10-17 17:27:30 -0400 (Thu, 17 Oct 2024) EndedAt: 2024-10-17 17:27:40 -0400 (Thu, 17 Oct 2024) EllapsedTime: 9.6 seconds RetCode: 0 Status: OK PackageFile: xmapbridge_1.62.0.tgz PackageFileSize: 1.757 MiB